BEGIN:VCALENDAR
VERSION:2.0
PRODID:-//Tukios.com/
BEGIN:VEVENT
UID:3fd9195f-e554-4271-8c5c-6246377a18b2@www.callawayjones.com
DTSTAMP:20260424T213550Z
DTSTART:20260430T143000Z
DTEND:20260430T153000Z
SUMMARY:Visitation
DESCRIPTION:
URL:https://www.callawayjones.com/obituaries/eunice-lorenz
LOCATION:Bethel Lutheran Church 4221 Boonville Road  Bryan TX 77802
GEO:30.6645435;-96.3064042
END:VEVENT
END:VCALENDAR