BEGIN:VCALENDAR
VERSION:2.0
PRODID:-//Tukios.com/
BEGIN:VEVENT
UID:842b4c98-c322-4a7d-9961-d988e90f2b5c@www.callawayjones.com
DTSTAMP:20260424T213214Z
DTSTART:20260430T153000Z
DTEND:20260430T163000Z
SUMMARY:Celebration of Life
DESCRIPTION:
URL:https://www.callawayjones.com/obituaries/eunice-lorenz
LOCATION:Bethel Lutheran Church 4221 Boonville Road  Bryan TX 77802
GEO:30.6645435;-96.3064042
END:VEVENT
END:VCALENDAR