BEGIN:VCALENDAR
VERSION:2.0
PRODID:-//Tukios.com/
BEGIN:VEVENT
UID:00be75c2-f054-4029-9e56-9e8616289ebc@www.callawayjones.com
DTSTAMP:20260421T213509Z
DTSTART:20260424T140000Z
DTEND:20260424T150000Z
SUMMARY:Visitation
DESCRIPTION:
URL:https://www.callawayjones.com/obituaries/john-sefcik
LOCATION: 3001 S College Ave  Bryan TX 77801
GEO:30.6411803;-96.3588789
END:VEVENT
END:VCALENDAR