BEGIN:VCALENDAR
VERSION:2.0
PRODID:-//Tukios.com/
BEGIN:VEVENT
UID:b705c06f-a619-4969-824d-7e8c9152d833@www.callawayjones.com
DTSTAMP:20260421T212712Z
DTSTART:20260424T150000Z
DTEND:20260424T160000Z
SUMMARY:Funeral Service
DESCRIPTION:
URL:https://www.callawayjones.com/obituaries/john-sefcik
LOCATION: 3001 S College Ave  Bryan TX 77801
GEO:30.6411803;-96.3588789
END:VEVENT
END:VCALENDAR