BEGIN:VCALENDAR
VERSION:2.0
PRODID:-//Tukios.com/
BEGIN:VEVENT
UID:1c466548-84fc-4c8c-837b-c8f9dfd6977f@www.callawayjones.com
DTSTAMP:20260421T213049Z
DTSTART:20260424T190000Z
DTEND:20260424T200000Z
SUMMARY:Burial
DESCRIPTION:
URL:https://www.callawayjones.com/obituaries/john-sefcik
LOCATION: 13747 Eastex Freeway  Houston TX 77039
GEO:29.9167937;-95.3097249
END:VEVENT
END:VCALENDAR