BEGIN:VCALENDAR
VERSION:2.0
PRODID:-//Tukios.com/
BEGIN:VEVENT
UID:9075769b-fd5e-419e-9032-8205ad5f9e7a@www.callawayjones.com
DTSTAMP:20260420T195313Z
DTSTART:20260502T150000Z
DTEND:20260502T160000Z
SUMMARY:Funeral Service
DESCRIPTION:
URL:https://www.callawayjones.com/obituaries/kevin-anderholm
LOCATION:Christ Church 4201 Texas 6 Frontage Rd  College Station TX 77845
GEO:30.5692645;-96.2681317
END:VEVENT
END:VCALENDAR